BEGIN:VCALENDAR
VERSION:2.0
PRODID:-//Women&#039;s Ministry - Friendship Baptist Church - ECPv6.15.20//NONSGML v1.0//EN
CALSCALE:GREGORIAN
METHOD:PUBLISH
X-ORIGINAL-URL:https://fbcwomensministry.org
X-WR-CALDESC:Events for Women&#039;s Ministry - Friendship Baptist Church
REFRESH-INTERVAL;VALUE=DURATION:PT1H
X-Robots-Tag:noindex
X-PUBLISHED-TTL:PT1H
BEGIN:VTIMEZONE
TZID:America/New_York
BEGIN:DAYLIGHT
TZOFFSETFROM:-0500
TZOFFSETTO:-0400
TZNAME:EDT
DTSTART:20200308T070000
END:DAYLIGHT
BEGIN:STANDARD
TZOFFSETFROM:-0400
TZOFFSETTO:-0500
TZNAME:EST
DTSTART:20201101T060000
END:STANDARD
BEGIN:DAYLIGHT
TZOFFSETFROM:-0500
TZOFFSETTO:-0400
TZNAME:EDT
DTSTART:20210314T070000
END:DAYLIGHT
BEGIN:STANDARD
TZOFFSETFROM:-0400
TZOFFSETTO:-0500
TZNAME:EST
DTSTART:20211107T060000
END:STANDARD
BEGIN:DAYLIGHT
TZOFFSETFROM:-0500
TZOFFSETTO:-0400
TZNAME:EDT
DTSTART:20220313T070000
END:DAYLIGHT
BEGIN:STANDARD
TZOFFSETFROM:-0400
TZOFFSETTO:-0500
TZNAME:EST
DTSTART:20221106T060000
END:STANDARD
BEGIN:DAYLIGHT
TZOFFSETFROM:-0500
TZOFFSETTO:-0400
TZNAME:EDT
DTSTART:20230312T070000
END:DAYLIGHT
BEGIN:STANDARD
TZOFFSETFROM:-0400
TZOFFSETTO:-0500
TZNAME:EST
DTSTART:20231105T060000
END:STANDARD
END:VTIMEZONE
BEGIN:VEVENT
DTSTART;TZID=America/New_York:20220612T100000
DTEND;TZID=America/New_York:20220612T130000
DTSTAMP:20260419T182552
CREATED:20210813T020222Z
LAST-MODIFIED:20210813T020652Z
UID:449-1655028000-1655038800@fbcwomensministry.org
SUMMARY:Sunday Worship
DESCRIPTION:
URL:https://fbcwomensministry.org/calendar/sunday-worship-2022-06-12/
LOCATION:Friendship Baptist Church\, 80 Walnut St SW\, Atlanta\, GA\, 30314\, United States
CATEGORIES:Worship
END:VEVENT
BEGIN:VEVENT
DTSTART;TZID=America/New_York:20220605T100000
DTEND;TZID=America/New_York:20220605T130000
DTSTAMP:20260419T182552
CREATED:20210813T020222Z
LAST-MODIFIED:20210813T020652Z
UID:448-1654423200-1654434000@fbcwomensministry.org
SUMMARY:Sunday Worship
DESCRIPTION:
URL:https://fbcwomensministry.org/calendar/sunday-worship-2022-06-05/
LOCATION:Friendship Baptist Church\, 80 Walnut St SW\, Atlanta\, GA\, 30314\, United States
CATEGORIES:Worship
END:VEVENT
BEGIN:VEVENT
DTSTART;TZID=America/New_York:20220529T100000
DTEND;TZID=America/New_York:20220529T130000
DTSTAMP:20260419T182552
CREATED:20210813T020222Z
LAST-MODIFIED:20210813T020652Z
UID:447-1653818400-1653829200@fbcwomensministry.org
SUMMARY:Sunday Worship
DESCRIPTION:
URL:https://fbcwomensministry.org/calendar/sunday-worship-2022-05-29/
LOCATION:Friendship Baptist Church\, 80 Walnut St SW\, Atlanta\, GA\, 30314\, United States
CATEGORIES:Worship
END:VEVENT
BEGIN:VEVENT
DTSTART;TZID=America/New_York:20220522T100000
DTEND;TZID=America/New_York:20220522T130000
DTSTAMP:20260419T182552
CREATED:20210813T020222Z
LAST-MODIFIED:20210813T020652Z
UID:446-1653213600-1653224400@fbcwomensministry.org
SUMMARY:Sunday Worship
DESCRIPTION:
URL:https://fbcwomensministry.org/calendar/sunday-worship-2022-05-22/
LOCATION:Friendship Baptist Church\, 80 Walnut St SW\, Atlanta\, GA\, 30314\, United States
CATEGORIES:Worship
END:VEVENT
BEGIN:VEVENT
DTSTART;TZID=America/New_York:20220515T100000
DTEND;TZID=America/New_York:20220515T130000
DTSTAMP:20260419T182552
CREATED:20210813T020222Z
LAST-MODIFIED:20210813T020651Z
UID:445-1652608800-1652619600@fbcwomensministry.org
SUMMARY:Sunday Worship
DESCRIPTION:
URL:https://fbcwomensministry.org/calendar/sunday-worship-2022-05-15/
LOCATION:Friendship Baptist Church\, 80 Walnut St SW\, Atlanta\, GA\, 30314\, United States
CATEGORIES:Worship
END:VEVENT
BEGIN:VEVENT
DTSTART;TZID=America/New_York:20220508T100000
DTEND;TZID=America/New_York:20220508T130000
DTSTAMP:20260419T182552
CREATED:20210813T020222Z
LAST-MODIFIED:20210813T020651Z
UID:444-1652004000-1652014800@fbcwomensministry.org
SUMMARY:Sunday Worship
DESCRIPTION:
URL:https://fbcwomensministry.org/calendar/sunday-worship-2022-05-08/
LOCATION:Friendship Baptist Church\, 80 Walnut St SW\, Atlanta\, GA\, 30314\, United States
CATEGORIES:Worship
END:VEVENT
BEGIN:VEVENT
DTSTART;TZID=America/New_York:20220501T100000
DTEND;TZID=America/New_York:20220501T130000
DTSTAMP:20260419T182552
CREATED:20210813T020222Z
LAST-MODIFIED:20210813T020651Z
UID:443-1651399200-1651410000@fbcwomensministry.org
SUMMARY:Sunday Worship
DESCRIPTION:
URL:https://fbcwomensministry.org/calendar/sunday-worship-2022-05-01/
LOCATION:Friendship Baptist Church\, 80 Walnut St SW\, Atlanta\, GA\, 30314\, United States
CATEGORIES:Worship
END:VEVENT
BEGIN:VEVENT
DTSTART;TZID=America/New_York:20220424T100000
DTEND;TZID=America/New_York:20220424T130000
DTSTAMP:20260419T182552
CREATED:20210813T020222Z
LAST-MODIFIED:20210813T020651Z
UID:442-1650794400-1650805200@fbcwomensministry.org
SUMMARY:Sunday Worship
DESCRIPTION:
URL:https://fbcwomensministry.org/calendar/sunday-worship-2022-04-24/
LOCATION:Friendship Baptist Church\, 80 Walnut St SW\, Atlanta\, GA\, 30314\, United States
CATEGORIES:Worship
END:VEVENT
BEGIN:VEVENT
DTSTART;TZID=America/New_York:20220417T100000
DTEND;TZID=America/New_York:20220417T130000
DTSTAMP:20260419T182552
CREATED:20210813T020222Z
LAST-MODIFIED:20210813T020651Z
UID:441-1650189600-1650200400@fbcwomensministry.org
SUMMARY:Sunday Worship
DESCRIPTION:
URL:https://fbcwomensministry.org/calendar/sunday-worship-2022-04-17/
LOCATION:Friendship Baptist Church\, 80 Walnut St SW\, Atlanta\, GA\, 30314\, United States
CATEGORIES:Worship
END:VEVENT
BEGIN:VEVENT
DTSTART;TZID=America/New_York:20220410T100000
DTEND;TZID=America/New_York:20220410T130000
DTSTAMP:20260419T182552
CREATED:20210813T020222Z
LAST-MODIFIED:20210813T020651Z
UID:440-1649584800-1649595600@fbcwomensministry.org
SUMMARY:Sunday Worship
DESCRIPTION:
URL:https://fbcwomensministry.org/calendar/sunday-worship-2022-04-10/
LOCATION:Friendship Baptist Church\, 80 Walnut St SW\, Atlanta\, GA\, 30314\, United States
CATEGORIES:Worship
END:VEVENT
BEGIN:VEVENT
DTSTART;TZID=America/New_York:20220403T100000
DTEND;TZID=America/New_York:20220403T130000
DTSTAMP:20260419T182552
CREATED:20210813T020222Z
LAST-MODIFIED:20210813T020651Z
UID:439-1648980000-1648990800@fbcwomensministry.org
SUMMARY:Sunday Worship
DESCRIPTION:
URL:https://fbcwomensministry.org/calendar/sunday-worship-2022-04-03/
LOCATION:Friendship Baptist Church\, 80 Walnut St SW\, Atlanta\, GA\, 30314\, United States
CATEGORIES:Worship
END:VEVENT
BEGIN:VEVENT
DTSTART;TZID=America/New_York:20220327T100000
DTEND;TZID=America/New_York:20220327T130000
DTSTAMP:20260419T182552
CREATED:20210813T020222Z
LAST-MODIFIED:20210813T020651Z
UID:438-1648375200-1648386000@fbcwomensministry.org
SUMMARY:Sunday Worship
DESCRIPTION:
URL:https://fbcwomensministry.org/calendar/sunday-worship-2022-03-27/
LOCATION:Friendship Baptist Church\, 80 Walnut St SW\, Atlanta\, GA\, 30314\, United States
CATEGORIES:Worship
END:VEVENT
BEGIN:VEVENT
DTSTART;TZID=America/New_York:20220320T100000
DTEND;TZID=America/New_York:20220320T130000
DTSTAMP:20260419T182552
CREATED:20210813T020222Z
LAST-MODIFIED:20210813T020651Z
UID:437-1647770400-1647781200@fbcwomensministry.org
SUMMARY:Sunday Worship
DESCRIPTION:
URL:https://fbcwomensministry.org/calendar/sunday-worship-2022-03-20/
LOCATION:Friendship Baptist Church\, 80 Walnut St SW\, Atlanta\, GA\, 30314\, United States
CATEGORIES:Worship
END:VEVENT
BEGIN:VEVENT
DTSTART;TZID=America/New_York:20220313T100000
DTEND;TZID=America/New_York:20220313T130000
DTSTAMP:20260419T182552
CREATED:20210813T020222Z
LAST-MODIFIED:20210813T020650Z
UID:436-1647165600-1647176400@fbcwomensministry.org
SUMMARY:Sunday Worship
DESCRIPTION:
URL:https://fbcwomensministry.org/calendar/sunday-worship-2022-03-13/
LOCATION:Friendship Baptist Church\, 80 Walnut St SW\, Atlanta\, GA\, 30314\, United States
CATEGORIES:Worship
END:VEVENT
BEGIN:VEVENT
DTSTART;TZID=America/New_York:20220306T100000
DTEND;TZID=America/New_York:20220306T130000
DTSTAMP:20260419T182552
CREATED:20210813T020222Z
LAST-MODIFIED:20210813T020650Z
UID:435-1646560800-1646571600@fbcwomensministry.org
SUMMARY:Sunday Worship
DESCRIPTION:
URL:https://fbcwomensministry.org/calendar/sunday-worship-2022-03-06/
LOCATION:Friendship Baptist Church\, 80 Walnut St SW\, Atlanta\, GA\, 30314\, United States
CATEGORIES:Worship
END:VEVENT
BEGIN:VEVENT
DTSTART;TZID=America/New_York:20220227T100000
DTEND;TZID=America/New_York:20220227T130000
DTSTAMP:20260419T182552
CREATED:20210813T020222Z
LAST-MODIFIED:20210813T020650Z
UID:434-1645956000-1645966800@fbcwomensministry.org
SUMMARY:Sunday Worship
DESCRIPTION:
URL:https://fbcwomensministry.org/calendar/sunday-worship-2022-02-27/
LOCATION:Friendship Baptist Church\, 80 Walnut St SW\, Atlanta\, GA\, 30314\, United States
CATEGORIES:Worship
END:VEVENT
BEGIN:VEVENT
DTSTART;TZID=America/New_York:20220220T100000
DTEND;TZID=America/New_York:20220220T130000
DTSTAMP:20260419T182552
CREATED:20210813T020222Z
LAST-MODIFIED:20210813T020650Z
UID:433-1645351200-1645362000@fbcwomensministry.org
SUMMARY:Sunday Worship
DESCRIPTION:
URL:https://fbcwomensministry.org/calendar/sunday-worship-2022-02-20/
LOCATION:Friendship Baptist Church\, 80 Walnut St SW\, Atlanta\, GA\, 30314\, United States
CATEGORIES:Worship
END:VEVENT
BEGIN:VEVENT
DTSTART;TZID=America/New_York:20220213T100000
DTEND;TZID=America/New_York:20220213T130000
DTSTAMP:20260419T182552
CREATED:20210813T020222Z
LAST-MODIFIED:20210813T020650Z
UID:432-1644746400-1644757200@fbcwomensministry.org
SUMMARY:Sunday Worship
DESCRIPTION:
URL:https://fbcwomensministry.org/calendar/sunday-worship-2022-02-13/
LOCATION:Friendship Baptist Church\, 80 Walnut St SW\, Atlanta\, GA\, 30314\, United States
CATEGORIES:Worship
END:VEVENT
BEGIN:VEVENT
DTSTART;TZID=America/New_York:20220206T100000
DTEND;TZID=America/New_York:20220206T130000
DTSTAMP:20260419T182552
CREATED:20210813T020222Z
LAST-MODIFIED:20210813T020650Z
UID:431-1644141600-1644152400@fbcwomensministry.org
SUMMARY:Sunday Worship
DESCRIPTION:
URL:https://fbcwomensministry.org/calendar/sunday-worship-2022-02-06/
LOCATION:Friendship Baptist Church\, 80 Walnut St SW\, Atlanta\, GA\, 30314\, United States
CATEGORIES:Worship
END:VEVENT
BEGIN:VEVENT
DTSTART;TZID=America/New_York:20220130T100000
DTEND;TZID=America/New_York:20220130T130000
DTSTAMP:20260419T182552
CREATED:20210813T020222Z
LAST-MODIFIED:20210813T020650Z
UID:430-1643536800-1643547600@fbcwomensministry.org
SUMMARY:Sunday Worship
DESCRIPTION:
URL:https://fbcwomensministry.org/calendar/sunday-worship-2022-01-30/
LOCATION:Friendship Baptist Church\, 80 Walnut St SW\, Atlanta\, GA\, 30314\, United States
CATEGORIES:Worship
END:VEVENT
BEGIN:VEVENT
DTSTART;TZID=America/New_York:20220123T100000
DTEND;TZID=America/New_York:20220123T130000
DTSTAMP:20260419T182552
CREATED:20210813T020222Z
LAST-MODIFIED:20210813T020650Z
UID:429-1642932000-1642942800@fbcwomensministry.org
SUMMARY:Sunday Worship
DESCRIPTION:
URL:https://fbcwomensministry.org/calendar/sunday-worship-2022-01-23/
LOCATION:Friendship Baptist Church\, 80 Walnut St SW\, Atlanta\, GA\, 30314\, United States
CATEGORIES:Worship
END:VEVENT
BEGIN:VEVENT
DTSTART;TZID=America/New_York:20220116T100000
DTEND;TZID=America/New_York:20220116T130000
DTSTAMP:20260419T182552
CREATED:20210813T020222Z
LAST-MODIFIED:20210813T020650Z
UID:428-1642327200-1642338000@fbcwomensministry.org
SUMMARY:Sunday Worship
DESCRIPTION:
URL:https://fbcwomensministry.org/calendar/sunday-worship-2022-01-16/
LOCATION:Friendship Baptist Church\, 80 Walnut St SW\, Atlanta\, GA\, 30314\, United States
CATEGORIES:Worship
END:VEVENT
BEGIN:VEVENT
DTSTART;TZID=America/New_York:20220109T100000
DTEND;TZID=America/New_York:20220109T130000
DTSTAMP:20260419T182552
CREATED:20210813T020222Z
LAST-MODIFIED:20210813T020649Z
UID:427-1641722400-1641733200@fbcwomensministry.org
SUMMARY:Sunday Worship
DESCRIPTION:
URL:https://fbcwomensministry.org/calendar/sunday-worship-2022-01-09/
LOCATION:Friendship Baptist Church\, 80 Walnut St SW\, Atlanta\, GA\, 30314\, United States
CATEGORIES:Worship
END:VEVENT
BEGIN:VEVENT
DTSTART;TZID=America/New_York:20220102T100000
DTEND;TZID=America/New_York:20220102T130000
DTSTAMP:20260419T182552
CREATED:20210813T020222Z
LAST-MODIFIED:20210813T020649Z
UID:426-1641117600-1641128400@fbcwomensministry.org
SUMMARY:Sunday Worship
DESCRIPTION:
URL:https://fbcwomensministry.org/calendar/sunday-worship-2022-01-02/
LOCATION:Friendship Baptist Church\, 80 Walnut St SW\, Atlanta\, GA\, 30314\, United States
CATEGORIES:Worship
END:VEVENT
BEGIN:VEVENT
DTSTART;TZID=America/New_York:20211226T100000
DTEND;TZID=America/New_York:20211226T130000
DTSTAMP:20260419T182552
CREATED:20210813T020222Z
LAST-MODIFIED:20210813T020649Z
UID:425-1640512800-1640523600@fbcwomensministry.org
SUMMARY:Sunday Worship
DESCRIPTION:
URL:https://fbcwomensministry.org/calendar/sunday-worship-2021-12-26/
LOCATION:Friendship Baptist Church\, 80 Walnut St SW\, Atlanta\, GA\, 30314\, United States
CATEGORIES:Worship
END:VEVENT
BEGIN:VEVENT
DTSTART;TZID=America/New_York:20211219T100000
DTEND;TZID=America/New_York:20211219T130000
DTSTAMP:20260419T182552
CREATED:20210813T020222Z
LAST-MODIFIED:20210813T020649Z
UID:424-1639908000-1639918800@fbcwomensministry.org
SUMMARY:Sunday Worship
DESCRIPTION:
URL:https://fbcwomensministry.org/calendar/sunday-worship-2021-12-19/
LOCATION:Friendship Baptist Church\, 80 Walnut St SW\, Atlanta\, GA\, 30314\, United States
CATEGORIES:Worship
END:VEVENT
BEGIN:VEVENT
DTSTART;TZID=America/New_York:20211212T100000
DTEND;TZID=America/New_York:20211212T130000
DTSTAMP:20260419T182552
CREATED:20210813T020222Z
LAST-MODIFIED:20210813T020649Z
UID:423-1639303200-1639314000@fbcwomensministry.org
SUMMARY:Sunday Worship
DESCRIPTION:
URL:https://fbcwomensministry.org/calendar/sunday-worship-2021-12-12/
LOCATION:Friendship Baptist Church\, 80 Walnut St SW\, Atlanta\, GA\, 30314\, United States
CATEGORIES:Worship
END:VEVENT
BEGIN:VEVENT
DTSTART;TZID=America/New_York:20211205T100000
DTEND;TZID=America/New_York:20211205T130000
DTSTAMP:20260419T182552
CREATED:20210813T020222Z
LAST-MODIFIED:20210813T020648Z
UID:422-1638698400-1638709200@fbcwomensministry.org
SUMMARY:Sunday Worship
DESCRIPTION:
URL:https://fbcwomensministry.org/calendar/sunday-worship-2021-12-05/
LOCATION:Friendship Baptist Church\, 80 Walnut St SW\, Atlanta\, GA\, 30314\, United States
CATEGORIES:Worship
END:VEVENT
BEGIN:VEVENT
DTSTART;TZID=America/New_York:20211128T100000
DTEND;TZID=America/New_York:20211128T130000
DTSTAMP:20260419T182552
CREATED:20210813T020222Z
LAST-MODIFIED:20210813T020648Z
UID:421-1638093600-1638104400@fbcwomensministry.org
SUMMARY:Sunday Worship
DESCRIPTION:
URL:https://fbcwomensministry.org/calendar/sunday-worship-2021-11-28/
LOCATION:Friendship Baptist Church\, 80 Walnut St SW\, Atlanta\, GA\, 30314\, United States
CATEGORIES:Worship
END:VEVENT
BEGIN:VEVENT
DTSTART;TZID=America/New_York:20211121T100000
DTEND;TZID=America/New_York:20211121T130000
DTSTAMP:20260419T182552
CREATED:20210813T020222Z
LAST-MODIFIED:20210813T020648Z
UID:420-1637488800-1637499600@fbcwomensministry.org
SUMMARY:Sunday Worship
DESCRIPTION:
URL:https://fbcwomensministry.org/calendar/sunday-worship-2021-11-21/
LOCATION:Friendship Baptist Church\, 80 Walnut St SW\, Atlanta\, GA\, 30314\, United States
CATEGORIES:Worship
END:VEVENT
END:VCALENDAR