BEGIN:VCALENDAR
VERSION:2.0
PRODID:-//Women&#039;s Ministry - Friendship Baptist Church - ECPv6.15.20//NONSGML v1.0//EN
CALSCALE:GREGORIAN
METHOD:PUBLISH
X-WR-CALNAME:Women&#039;s Ministry - Friendship Baptist Church
X-ORIGINAL-URL:https://fbcwomensministry.org
X-WR-CALDESC:Events for Women&#039;s Ministry - Friendship Baptist Church
REFRESH-INTERVAL;VALUE=DURATION:PT1H
X-Robots-Tag:noindex
X-PUBLISHED-TTL:PT1H
BEGIN:VTIMEZONE
TZID:America/New_York
BEGIN:DAYLIGHT
TZOFFSETFROM:-0500
TZOFFSETTO:-0400
TZNAME:EDT
DTSTART:20210314T070000
END:DAYLIGHT
BEGIN:STANDARD
TZOFFSETFROM:-0400
TZOFFSETTO:-0500
TZNAME:EST
DTSTART:20211107T060000
END:STANDARD
BEGIN:DAYLIGHT
TZOFFSETFROM:-0500
TZOFFSETTO:-0400
TZNAME:EDT
DTSTART:20220313T070000
END:DAYLIGHT
BEGIN:STANDARD
TZOFFSETFROM:-0400
TZOFFSETTO:-0500
TZNAME:EST
DTSTART:20221106T060000
END:STANDARD
BEGIN:DAYLIGHT
TZOFFSETFROM:-0500
TZOFFSETTO:-0400
TZNAME:EDT
DTSTART:20230312T070000
END:DAYLIGHT
BEGIN:STANDARD
TZOFFSETFROM:-0400
TZOFFSETTO:-0500
TZNAME:EST
DTSTART:20231105T060000
END:STANDARD
END:VTIMEZONE
BEGIN:VEVENT
DTSTART;TZID=America/New_York:20221127T100000
DTEND;TZID=America/New_York:20221127T130000
DTSTAMP:20260419T153058
CREATED:20210813T020222Z
LAST-MODIFIED:20210813T020655Z
UID:473-1669543200-1669554000@fbcwomensministry.org
SUMMARY:Sunday Worship
DESCRIPTION:
URL:https://fbcwomensministry.org/calendar/sunday-worship-2022-11-27/
LOCATION:Friendship Baptist Church\, 80 Walnut St SW\, Atlanta\, GA\, 30314\, United States
CATEGORIES:Worship
END:VEVENT
BEGIN:VEVENT
DTSTART;TZID=America/New_York:20221120T100000
DTEND;TZID=America/New_York:20221120T130000
DTSTAMP:20260419T153058
CREATED:20210813T020222Z
LAST-MODIFIED:20210813T020655Z
UID:472-1668938400-1668949200@fbcwomensministry.org
SUMMARY:Sunday Worship
DESCRIPTION:
URL:https://fbcwomensministry.org/calendar/sunday-worship-2022-11-20/
LOCATION:Friendship Baptist Church\, 80 Walnut St SW\, Atlanta\, GA\, 30314\, United States
CATEGORIES:Worship
END:VEVENT
BEGIN:VEVENT
DTSTART;TZID=America/New_York:20221113T100000
DTEND;TZID=America/New_York:20221113T130000
DTSTAMP:20260419T153058
CREATED:20210813T020222Z
LAST-MODIFIED:20210813T020655Z
UID:471-1668333600-1668344400@fbcwomensministry.org
SUMMARY:Sunday Worship
DESCRIPTION:
URL:https://fbcwomensministry.org/calendar/sunday-worship-2022-11-13/
LOCATION:Friendship Baptist Church\, 80 Walnut St SW\, Atlanta\, GA\, 30314\, United States
CATEGORIES:Worship
END:VEVENT
BEGIN:VEVENT
DTSTART;TZID=America/New_York:20221106T100000
DTEND;TZID=America/New_York:20221106T130000
DTSTAMP:20260419T153058
CREATED:20210813T020222Z
LAST-MODIFIED:20210813T020655Z
UID:470-1667728800-1667739600@fbcwomensministry.org
SUMMARY:Sunday Worship
DESCRIPTION:
URL:https://fbcwomensministry.org/calendar/sunday-worship-2022-11-06/
LOCATION:Friendship Baptist Church\, 80 Walnut St SW\, Atlanta\, GA\, 30314\, United States
CATEGORIES:Worship
END:VEVENT
BEGIN:VEVENT
DTSTART;TZID=America/New_York:20221030T100000
DTEND;TZID=America/New_York:20221030T130000
DTSTAMP:20260419T153058
CREATED:20210813T020222Z
LAST-MODIFIED:20210813T020655Z
UID:469-1667124000-1667134800@fbcwomensministry.org
SUMMARY:Sunday Worship
DESCRIPTION:
URL:https://fbcwomensministry.org/calendar/sunday-worship-2022-10-30/
LOCATION:Friendship Baptist Church\, 80 Walnut St SW\, Atlanta\, GA\, 30314\, United States
CATEGORIES:Worship
END:VEVENT
BEGIN:VEVENT
DTSTART;TZID=America/New_York:20221023T100000
DTEND;TZID=America/New_York:20221023T130000
DTSTAMP:20260419T153058
CREATED:20210813T020222Z
LAST-MODIFIED:20210813T020655Z
UID:468-1666519200-1666530000@fbcwomensministry.org
SUMMARY:Sunday Worship
DESCRIPTION:
URL:https://fbcwomensministry.org/calendar/sunday-worship-2022-10-23/
LOCATION:Friendship Baptist Church\, 80 Walnut St SW\, Atlanta\, GA\, 30314\, United States
CATEGORIES:Worship
END:VEVENT
BEGIN:VEVENT
DTSTART;TZID=America/New_York:20221016T100000
DTEND;TZID=America/New_York:20221016T130000
DTSTAMP:20260419T153058
CREATED:20210813T020222Z
LAST-MODIFIED:20210813T020655Z
UID:467-1665914400-1665925200@fbcwomensministry.org
SUMMARY:Sunday Worship
DESCRIPTION:
URL:https://fbcwomensministry.org/calendar/sunday-worship-2022-10-16/
LOCATION:Friendship Baptist Church\, 80 Walnut St SW\, Atlanta\, GA\, 30314\, United States
CATEGORIES:Worship
END:VEVENT
BEGIN:VEVENT
DTSTART;TZID=America/New_York:20221009T100000
DTEND;TZID=America/New_York:20221009T130000
DTSTAMP:20260419T153058
CREATED:20210813T020222Z
LAST-MODIFIED:20210813T020654Z
UID:466-1665309600-1665320400@fbcwomensministry.org
SUMMARY:Sunday Worship
DESCRIPTION:
URL:https://fbcwomensministry.org/calendar/sunday-worship-2022-10-09/
LOCATION:Friendship Baptist Church\, 80 Walnut St SW\, Atlanta\, GA\, 30314\, United States
CATEGORIES:Worship
END:VEVENT
BEGIN:VEVENT
DTSTART;TZID=America/New_York:20221002T100000
DTEND;TZID=America/New_York:20221002T130000
DTSTAMP:20260419T153058
CREATED:20210813T020222Z
LAST-MODIFIED:20210813T020654Z
UID:465-1664704800-1664715600@fbcwomensministry.org
SUMMARY:Sunday Worship
DESCRIPTION:
URL:https://fbcwomensministry.org/calendar/sunday-worship-2022-10-02/
LOCATION:Friendship Baptist Church\, 80 Walnut St SW\, Atlanta\, GA\, 30314\, United States
CATEGORIES:Worship
END:VEVENT
BEGIN:VEVENT
DTSTART;TZID=America/New_York:20220925T100000
DTEND;TZID=America/New_York:20220925T130000
DTSTAMP:20260419T153058
CREATED:20210813T020222Z
LAST-MODIFIED:20210813T020654Z
UID:464-1664100000-1664110800@fbcwomensministry.org
SUMMARY:Sunday Worship
DESCRIPTION:
URL:https://fbcwomensministry.org/calendar/sunday-worship-2022-09-25/
LOCATION:Friendship Baptist Church\, 80 Walnut St SW\, Atlanta\, GA\, 30314\, United States
CATEGORIES:Worship
END:VEVENT
BEGIN:VEVENT
DTSTART;TZID=America/New_York:20220918T100000
DTEND;TZID=America/New_York:20220918T130000
DTSTAMP:20260419T153058
CREATED:20210813T020222Z
LAST-MODIFIED:20210813T020654Z
UID:463-1663495200-1663506000@fbcwomensministry.org
SUMMARY:Sunday Worship
DESCRIPTION:
URL:https://fbcwomensministry.org/calendar/sunday-worship-2022-09-18/
LOCATION:Friendship Baptist Church\, 80 Walnut St SW\, Atlanta\, GA\, 30314\, United States
CATEGORIES:Worship
END:VEVENT
BEGIN:VEVENT
DTSTART;TZID=America/New_York:20220911T100000
DTEND;TZID=America/New_York:20220911T130000
DTSTAMP:20260419T153058
CREATED:20210813T020222Z
LAST-MODIFIED:20210813T020654Z
UID:462-1662890400-1662901200@fbcwomensministry.org
SUMMARY:Sunday Worship
DESCRIPTION:
URL:https://fbcwomensministry.org/calendar/sunday-worship-2022-09-11/
LOCATION:Friendship Baptist Church\, 80 Walnut St SW\, Atlanta\, GA\, 30314\, United States
CATEGORIES:Worship
END:VEVENT
BEGIN:VEVENT
DTSTART;TZID=America/New_York:20220904T100000
DTEND;TZID=America/New_York:20220904T130000
DTSTAMP:20260419T153058
CREATED:20210813T020222Z
LAST-MODIFIED:20210813T020654Z
UID:461-1662285600-1662296400@fbcwomensministry.org
SUMMARY:Sunday Worship
DESCRIPTION:
URL:https://fbcwomensministry.org/calendar/sunday-worship-2022-09-04/
LOCATION:Friendship Baptist Church\, 80 Walnut St SW\, Atlanta\, GA\, 30314\, United States
CATEGORIES:Worship
END:VEVENT
BEGIN:VEVENT
DTSTART;TZID=America/New_York:20220828T100000
DTEND;TZID=America/New_York:20220828T130000
DTSTAMP:20260419T153058
CREATED:20210813T020222Z
LAST-MODIFIED:20210813T020654Z
UID:460-1661680800-1661691600@fbcwomensministry.org
SUMMARY:Sunday Worship
DESCRIPTION:
URL:https://fbcwomensministry.org/calendar/sunday-worship-2022-08-28/
LOCATION:Friendship Baptist Church\, 80 Walnut St SW\, Atlanta\, GA\, 30314\, United States
CATEGORIES:Worship
END:VEVENT
BEGIN:VEVENT
DTSTART;TZID=America/New_York:20220821T100000
DTEND;TZID=America/New_York:20220821T130000
DTSTAMP:20260419T153058
CREATED:20210813T020222Z
LAST-MODIFIED:20210813T020654Z
UID:459-1661076000-1661086800@fbcwomensministry.org
SUMMARY:Sunday Worship
DESCRIPTION:
URL:https://fbcwomensministry.org/calendar/sunday-worship-2022-08-21/
LOCATION:Friendship Baptist Church\, 80 Walnut St SW\, Atlanta\, GA\, 30314\, United States
CATEGORIES:Worship
END:VEVENT
BEGIN:VEVENT
DTSTART;TZID=America/New_York:20220814T100000
DTEND;TZID=America/New_York:20220814T130000
DTSTAMP:20260419T153058
CREATED:20210813T020222Z
LAST-MODIFIED:20210813T020653Z
UID:458-1660471200-1660482000@fbcwomensministry.org
SUMMARY:Sunday Worship
DESCRIPTION:
URL:https://fbcwomensministry.org/calendar/sunday-worship-2022-08-14/
LOCATION:Friendship Baptist Church\, 80 Walnut St SW\, Atlanta\, GA\, 30314\, United States
CATEGORIES:Worship
END:VEVENT
BEGIN:VEVENT
DTSTART;TZID=America/New_York:20220807T100000
DTEND;TZID=America/New_York:20220807T130000
DTSTAMP:20260419T153058
CREATED:20210813T020222Z
LAST-MODIFIED:20210813T020653Z
UID:457-1659866400-1659877200@fbcwomensministry.org
SUMMARY:Sunday Worship
DESCRIPTION:
URL:https://fbcwomensministry.org/calendar/sunday-worship-2022-08-07/
LOCATION:Friendship Baptist Church\, 80 Walnut St SW\, Atlanta\, GA\, 30314\, United States
CATEGORIES:Worship
END:VEVENT
BEGIN:VEVENT
DTSTART;TZID=America/New_York:20220731T100000
DTEND;TZID=America/New_York:20220731T130000
DTSTAMP:20260419T153058
CREATED:20210813T020222Z
LAST-MODIFIED:20210813T020653Z
UID:456-1659261600-1659272400@fbcwomensministry.org
SUMMARY:Sunday Worship
DESCRIPTION:
URL:https://fbcwomensministry.org/calendar/sunday-worship-2022-07-31/
LOCATION:Friendship Baptist Church\, 80 Walnut St SW\, Atlanta\, GA\, 30314\, United States
CATEGORIES:Worship
END:VEVENT
BEGIN:VEVENT
DTSTART;TZID=America/New_York:20220724T100000
DTEND;TZID=America/New_York:20220724T130000
DTSTAMP:20260419T153058
CREATED:20210813T020222Z
LAST-MODIFIED:20210813T020653Z
UID:455-1658656800-1658667600@fbcwomensministry.org
SUMMARY:Sunday Worship
DESCRIPTION:
URL:https://fbcwomensministry.org/calendar/sunday-worship-2022-07-24/
LOCATION:Friendship Baptist Church\, 80 Walnut St SW\, Atlanta\, GA\, 30314\, United States
CATEGORIES:Worship
END:VEVENT
BEGIN:VEVENT
DTSTART;TZID=America/New_York:20220717T100000
DTEND;TZID=America/New_York:20220717T130000
DTSTAMP:20260419T153058
CREATED:20210813T020222Z
LAST-MODIFIED:20210813T020653Z
UID:454-1658052000-1658062800@fbcwomensministry.org
SUMMARY:Sunday Worship
DESCRIPTION:
URL:https://fbcwomensministry.org/calendar/sunday-worship-2022-07-17/
LOCATION:Friendship Baptist Church\, 80 Walnut St SW\, Atlanta\, GA\, 30314\, United States
CATEGORIES:Worship
END:VEVENT
BEGIN:VEVENT
DTSTART;TZID=America/New_York:20220710T100000
DTEND;TZID=America/New_York:20220710T130000
DTSTAMP:20260419T153058
CREATED:20210813T020222Z
LAST-MODIFIED:20210813T020653Z
UID:453-1657447200-1657458000@fbcwomensministry.org
SUMMARY:Sunday Worship
DESCRIPTION:
URL:https://fbcwomensministry.org/calendar/sunday-worship-2022-07-10/
LOCATION:Friendship Baptist Church\, 80 Walnut St SW\, Atlanta\, GA\, 30314\, United States
CATEGORIES:Worship
END:VEVENT
BEGIN:VEVENT
DTSTART;TZID=America/New_York:20220703T100000
DTEND;TZID=America/New_York:20220703T130000
DTSTAMP:20260419T153058
CREATED:20210813T020222Z
LAST-MODIFIED:20210813T020653Z
UID:452-1656842400-1656853200@fbcwomensministry.org
SUMMARY:Sunday Worship
DESCRIPTION:
URL:https://fbcwomensministry.org/calendar/sunday-worship-2022-07-03/
LOCATION:Friendship Baptist Church\, 80 Walnut St SW\, Atlanta\, GA\, 30314\, United States
CATEGORIES:Worship
END:VEVENT
BEGIN:VEVENT
DTSTART;TZID=America/New_York:20220626T100000
DTEND;TZID=America/New_York:20220626T130000
DTSTAMP:20260419T153058
CREATED:20210813T020222Z
LAST-MODIFIED:20210813T020652Z
UID:451-1656237600-1656248400@fbcwomensministry.org
SUMMARY:Sunday Worship
DESCRIPTION:
URL:https://fbcwomensministry.org/calendar/sunday-worship-2022-06-26/
LOCATION:Friendship Baptist Church\, 80 Walnut St SW\, Atlanta\, GA\, 30314\, United States
CATEGORIES:Worship
END:VEVENT
BEGIN:VEVENT
DTSTART;TZID=America/New_York:20220619T100000
DTEND;TZID=America/New_York:20220619T130000
DTSTAMP:20260419T153058
CREATED:20210813T020222Z
LAST-MODIFIED:20210813T020652Z
UID:450-1655632800-1655643600@fbcwomensministry.org
SUMMARY:Sunday Worship
DESCRIPTION:
URL:https://fbcwomensministry.org/calendar/sunday-worship-2022-06-19/
LOCATION:Friendship Baptist Church\, 80 Walnut St SW\, Atlanta\, GA\, 30314\, United States
CATEGORIES:Worship
END:VEVENT
BEGIN:VEVENT
DTSTART;TZID=America/New_York:20220612T100000
DTEND;TZID=America/New_York:20220612T130000
DTSTAMP:20260419T153058
CREATED:20210813T020222Z
LAST-MODIFIED:20210813T020652Z
UID:449-1655028000-1655038800@fbcwomensministry.org
SUMMARY:Sunday Worship
DESCRIPTION:
URL:https://fbcwomensministry.org/calendar/sunday-worship-2022-06-12/
LOCATION:Friendship Baptist Church\, 80 Walnut St SW\, Atlanta\, GA\, 30314\, United States
CATEGORIES:Worship
END:VEVENT
BEGIN:VEVENT
DTSTART;TZID=America/New_York:20220605T100000
DTEND;TZID=America/New_York:20220605T130000
DTSTAMP:20260419T153058
CREATED:20210813T020222Z
LAST-MODIFIED:20210813T020652Z
UID:448-1654423200-1654434000@fbcwomensministry.org
SUMMARY:Sunday Worship
DESCRIPTION:
URL:https://fbcwomensministry.org/calendar/sunday-worship-2022-06-05/
LOCATION:Friendship Baptist Church\, 80 Walnut St SW\, Atlanta\, GA\, 30314\, United States
CATEGORIES:Worship
END:VEVENT
BEGIN:VEVENT
DTSTART;TZID=America/New_York:20220529T100000
DTEND;TZID=America/New_York:20220529T130000
DTSTAMP:20260419T153058
CREATED:20210813T020222Z
LAST-MODIFIED:20210813T020652Z
UID:447-1653818400-1653829200@fbcwomensministry.org
SUMMARY:Sunday Worship
DESCRIPTION:
URL:https://fbcwomensministry.org/calendar/sunday-worship-2022-05-29/
LOCATION:Friendship Baptist Church\, 80 Walnut St SW\, Atlanta\, GA\, 30314\, United States
CATEGORIES:Worship
END:VEVENT
BEGIN:VEVENT
DTSTART;TZID=America/New_York:20220522T100000
DTEND;TZID=America/New_York:20220522T130000
DTSTAMP:20260419T153058
CREATED:20210813T020222Z
LAST-MODIFIED:20210813T020652Z
UID:446-1653213600-1653224400@fbcwomensministry.org
SUMMARY:Sunday Worship
DESCRIPTION:
URL:https://fbcwomensministry.org/calendar/sunday-worship-2022-05-22/
LOCATION:Friendship Baptist Church\, 80 Walnut St SW\, Atlanta\, GA\, 30314\, United States
CATEGORIES:Worship
END:VEVENT
BEGIN:VEVENT
DTSTART;TZID=America/New_York:20220515T100000
DTEND;TZID=America/New_York:20220515T130000
DTSTAMP:20260419T153058
CREATED:20210813T020222Z
LAST-MODIFIED:20210813T020651Z
UID:445-1652608800-1652619600@fbcwomensministry.org
SUMMARY:Sunday Worship
DESCRIPTION:
URL:https://fbcwomensministry.org/calendar/sunday-worship-2022-05-15/
LOCATION:Friendship Baptist Church\, 80 Walnut St SW\, Atlanta\, GA\, 30314\, United States
CATEGORIES:Worship
END:VEVENT
BEGIN:VEVENT
DTSTART;TZID=America/New_York:20220508T100000
DTEND;TZID=America/New_York:20220508T130000
DTSTAMP:20260419T153058
CREATED:20210813T020222Z
LAST-MODIFIED:20210813T020651Z
UID:444-1652004000-1652014800@fbcwomensministry.org
SUMMARY:Sunday Worship
DESCRIPTION:
URL:https://fbcwomensministry.org/calendar/sunday-worship-2022-05-08/
LOCATION:Friendship Baptist Church\, 80 Walnut St SW\, Atlanta\, GA\, 30314\, United States
CATEGORIES:Worship
END:VEVENT
END:VCALENDAR