BEGIN:VCALENDAR
VERSION:2.0
PRODID:-//Women&#039;s Ministry - Friendship Baptist Church - ECPv6.15.20//NONSGML v1.0//EN
CALSCALE:GREGORIAN
METHOD:PUBLISH
X-WR-CALNAME:Women&#039;s Ministry - Friendship Baptist Church
X-ORIGINAL-URL:https://fbcwomensministry.org
X-WR-CALDESC:Events for Women&#039;s Ministry - Friendship Baptist Church
REFRESH-INTERVAL;VALUE=DURATION:PT1H
X-Robots-Tag:noindex
X-PUBLISHED-TTL:PT1H
BEGIN:VTIMEZONE
TZID:America/New_York
BEGIN:DAYLIGHT
TZOFFSETFROM:-0500
TZOFFSETTO:-0400
TZNAME:EDT
DTSTART:20210314T070000
END:DAYLIGHT
BEGIN:STANDARD
TZOFFSETFROM:-0400
TZOFFSETTO:-0500
TZNAME:EST
DTSTART:20211107T060000
END:STANDARD
BEGIN:DAYLIGHT
TZOFFSETFROM:-0500
TZOFFSETTO:-0400
TZNAME:EDT
DTSTART:20220313T070000
END:DAYLIGHT
BEGIN:STANDARD
TZOFFSETFROM:-0400
TZOFFSETTO:-0500
TZNAME:EST
DTSTART:20221106T060000
END:STANDARD
BEGIN:DAYLIGHT
TZOFFSETFROM:-0500
TZOFFSETTO:-0400
TZNAME:EDT
DTSTART:20230312T070000
END:DAYLIGHT
BEGIN:STANDARD
TZOFFSETFROM:-0400
TZOFFSETTO:-0500
TZNAME:EST
DTSTART:20231105T060000
END:STANDARD
BEGIN:DAYLIGHT
TZOFFSETFROM:-0500
TZOFFSETTO:-0400
TZNAME:EDT
DTSTART:20240310T070000
END:DAYLIGHT
BEGIN:STANDARD
TZOFFSETFROM:-0400
TZOFFSETTO:-0500
TZNAME:EST
DTSTART:20241103T060000
END:STANDARD
END:VTIMEZONE
BEGIN:VEVENT
DTSTART;TZID=America/New_York:20230514T100000
DTEND;TZID=America/New_York:20230514T130000
DTSTAMP:20260419T125224
CREATED:20210813T020222Z
LAST-MODIFIED:20210813T020659Z
UID:497-1684058400-1684069200@fbcwomensministry.org
SUMMARY:Sunday Worship
DESCRIPTION:
URL:https://fbcwomensministry.org/calendar/sunday-worship-2023-05-14/
LOCATION:Friendship Baptist Church\, 80 Walnut St SW\, Atlanta\, GA\, 30314\, United States
CATEGORIES:Worship
END:VEVENT
BEGIN:VEVENT
DTSTART;TZID=America/New_York:20230507T100000
DTEND;TZID=America/New_York:20230507T130000
DTSTAMP:20260419T125224
CREATED:20210813T020222Z
LAST-MODIFIED:20210813T020658Z
UID:496-1683453600-1683464400@fbcwomensministry.org
SUMMARY:Sunday Worship
DESCRIPTION:
URL:https://fbcwomensministry.org/calendar/sunday-worship-2023-05-07/
LOCATION:Friendship Baptist Church\, 80 Walnut St SW\, Atlanta\, GA\, 30314\, United States
CATEGORIES:Worship
END:VEVENT
BEGIN:VEVENT
DTSTART;TZID=America/New_York:20230430T100000
DTEND;TZID=America/New_York:20230430T130000
DTSTAMP:20260419T125224
CREATED:20210813T020222Z
LAST-MODIFIED:20210813T020658Z
UID:495-1682848800-1682859600@fbcwomensministry.org
SUMMARY:Sunday Worship
DESCRIPTION:
URL:https://fbcwomensministry.org/calendar/sunday-worship-2023-04-30/
LOCATION:Friendship Baptist Church\, 80 Walnut St SW\, Atlanta\, GA\, 30314\, United States
CATEGORIES:Worship
END:VEVENT
BEGIN:VEVENT
DTSTART;TZID=America/New_York:20230423T100000
DTEND;TZID=America/New_York:20230423T130000
DTSTAMP:20260419T125224
CREATED:20210813T020222Z
LAST-MODIFIED:20210813T020658Z
UID:494-1682244000-1682254800@fbcwomensministry.org
SUMMARY:Sunday Worship
DESCRIPTION:
URL:https://fbcwomensministry.org/calendar/sunday-worship-2023-04-23/
LOCATION:Friendship Baptist Church\, 80 Walnut St SW\, Atlanta\, GA\, 30314\, United States
CATEGORIES:Worship
END:VEVENT
BEGIN:VEVENT
DTSTART;TZID=America/New_York:20230416T100000
DTEND;TZID=America/New_York:20230416T130000
DTSTAMP:20260419T125224
CREATED:20210813T020222Z
LAST-MODIFIED:20210813T020658Z
UID:493-1681639200-1681650000@fbcwomensministry.org
SUMMARY:Sunday Worship
DESCRIPTION:
URL:https://fbcwomensministry.org/calendar/sunday-worship-2023-04-16/
LOCATION:Friendship Baptist Church\, 80 Walnut St SW\, Atlanta\, GA\, 30314\, United States
CATEGORIES:Worship
END:VEVENT
BEGIN:VEVENT
DTSTART;TZID=America/New_York:20230409T100000
DTEND;TZID=America/New_York:20230409T130000
DTSTAMP:20260419T125224
CREATED:20210813T020222Z
LAST-MODIFIED:20210813T020658Z
UID:492-1681034400-1681045200@fbcwomensministry.org
SUMMARY:Sunday Worship
DESCRIPTION:
URL:https://fbcwomensministry.org/calendar/sunday-worship-2023-04-09/
LOCATION:Friendship Baptist Church\, 80 Walnut St SW\, Atlanta\, GA\, 30314\, United States
CATEGORIES:Worship
END:VEVENT
BEGIN:VEVENT
DTSTART;TZID=America/New_York:20230402T100000
DTEND;TZID=America/New_York:20230402T130000
DTSTAMP:20260419T125224
CREATED:20210813T020222Z
LAST-MODIFIED:20210813T020658Z
UID:491-1680429600-1680440400@fbcwomensministry.org
SUMMARY:Sunday Worship
DESCRIPTION:
URL:https://fbcwomensministry.org/calendar/sunday-worship-2023-04-02/
LOCATION:Friendship Baptist Church\, 80 Walnut St SW\, Atlanta\, GA\, 30314\, United States
CATEGORIES:Worship
END:VEVENT
BEGIN:VEVENT
DTSTART;TZID=America/New_York:20230326T100000
DTEND;TZID=America/New_York:20230326T130000
DTSTAMP:20260419T125224
CREATED:20210813T020222Z
LAST-MODIFIED:20210813T020658Z
UID:490-1679824800-1679835600@fbcwomensministry.org
SUMMARY:Sunday Worship
DESCRIPTION:
URL:https://fbcwomensministry.org/calendar/sunday-worship-2023-03-26/
LOCATION:Friendship Baptist Church\, 80 Walnut St SW\, Atlanta\, GA\, 30314\, United States
CATEGORIES:Worship
END:VEVENT
BEGIN:VEVENT
DTSTART;TZID=America/New_York:20230319T100000
DTEND;TZID=America/New_York:20230319T130000
DTSTAMP:20260419T125224
CREATED:20210813T020222Z
LAST-MODIFIED:20210813T020658Z
UID:489-1679220000-1679230800@fbcwomensministry.org
SUMMARY:Sunday Worship
DESCRIPTION:
URL:https://fbcwomensministry.org/calendar/sunday-worship-2023-03-19/
LOCATION:Friendship Baptist Church\, 80 Walnut St SW\, Atlanta\, GA\, 30314\, United States
CATEGORIES:Worship
END:VEVENT
BEGIN:VEVENT
DTSTART;TZID=America/New_York:20230312T100000
DTEND;TZID=America/New_York:20230312T130000
DTSTAMP:20260419T125224
CREATED:20210813T020222Z
LAST-MODIFIED:20210813T020657Z
UID:488-1678615200-1678626000@fbcwomensministry.org
SUMMARY:Sunday Worship
DESCRIPTION:
URL:https://fbcwomensministry.org/calendar/sunday-worship-2023-03-12/
LOCATION:Friendship Baptist Church\, 80 Walnut St SW\, Atlanta\, GA\, 30314\, United States
CATEGORIES:Worship
END:VEVENT
BEGIN:VEVENT
DTSTART;TZID=America/New_York:20230305T100000
DTEND;TZID=America/New_York:20230305T130000
DTSTAMP:20260419T125224
CREATED:20210813T020222Z
LAST-MODIFIED:20210813T020657Z
UID:487-1678010400-1678021200@fbcwomensministry.org
SUMMARY:Sunday Worship
DESCRIPTION:
URL:https://fbcwomensministry.org/calendar/sunday-worship-2023-03-05/
LOCATION:Friendship Baptist Church\, 80 Walnut St SW\, Atlanta\, GA\, 30314\, United States
CATEGORIES:Worship
END:VEVENT
BEGIN:VEVENT
DTSTART;TZID=America/New_York:20230226T100000
DTEND;TZID=America/New_York:20230226T130000
DTSTAMP:20260419T125224
CREATED:20210813T020222Z
LAST-MODIFIED:20210813T020657Z
UID:486-1677405600-1677416400@fbcwomensministry.org
SUMMARY:Sunday Worship
DESCRIPTION:
URL:https://fbcwomensministry.org/calendar/sunday-worship-2023-02-26/
LOCATION:Friendship Baptist Church\, 80 Walnut St SW\, Atlanta\, GA\, 30314\, United States
CATEGORIES:Worship
END:VEVENT
BEGIN:VEVENT
DTSTART;TZID=America/New_York:20230219T100000
DTEND;TZID=America/New_York:20230219T130000
DTSTAMP:20260419T125224
CREATED:20210813T020222Z
LAST-MODIFIED:20210813T020657Z
UID:485-1676800800-1676811600@fbcwomensministry.org
SUMMARY:Sunday Worship
DESCRIPTION:
URL:https://fbcwomensministry.org/calendar/sunday-worship-2023-02-19/
LOCATION:Friendship Baptist Church\, 80 Walnut St SW\, Atlanta\, GA\, 30314\, United States
CATEGORIES:Worship
END:VEVENT
BEGIN:VEVENT
DTSTART;TZID=America/New_York:20230212T100000
DTEND;TZID=America/New_York:20230212T130000
DTSTAMP:20260419T125224
CREATED:20210813T020222Z
LAST-MODIFIED:20210813T020657Z
UID:484-1676196000-1676206800@fbcwomensministry.org
SUMMARY:Sunday Worship
DESCRIPTION:
URL:https://fbcwomensministry.org/calendar/sunday-worship-2023-02-12/
LOCATION:Friendship Baptist Church\, 80 Walnut St SW\, Atlanta\, GA\, 30314\, United States
CATEGORIES:Worship
END:VEVENT
BEGIN:VEVENT
DTSTART;TZID=America/New_York:20230205T100000
DTEND;TZID=America/New_York:20230205T130000
DTSTAMP:20260419T125224
CREATED:20210813T020222Z
LAST-MODIFIED:20210813T020657Z
UID:483-1675591200-1675602000@fbcwomensministry.org
SUMMARY:Sunday Worship
DESCRIPTION:
URL:https://fbcwomensministry.org/calendar/sunday-worship-2023-02-05/
LOCATION:Friendship Baptist Church\, 80 Walnut St SW\, Atlanta\, GA\, 30314\, United States
CATEGORIES:Worship
END:VEVENT
BEGIN:VEVENT
DTSTART;TZID=America/New_York:20230129T100000
DTEND;TZID=America/New_York:20230129T130000
DTSTAMP:20260419T125224
CREATED:20210813T020222Z
LAST-MODIFIED:20210813T020656Z
UID:482-1674986400-1674997200@fbcwomensministry.org
SUMMARY:Sunday Worship
DESCRIPTION:
URL:https://fbcwomensministry.org/calendar/sunday-worship-2023-01-29/
LOCATION:Friendship Baptist Church\, 80 Walnut St SW\, Atlanta\, GA\, 30314\, United States
CATEGORIES:Worship
END:VEVENT
BEGIN:VEVENT
DTSTART;TZID=America/New_York:20230122T100000
DTEND;TZID=America/New_York:20230122T130000
DTSTAMP:20260419T125224
CREATED:20210813T020222Z
LAST-MODIFIED:20210813T020656Z
UID:481-1674381600-1674392400@fbcwomensministry.org
SUMMARY:Sunday Worship
DESCRIPTION:
URL:https://fbcwomensministry.org/calendar/sunday-worship-2023-01-22/
LOCATION:Friendship Baptist Church\, 80 Walnut St SW\, Atlanta\, GA\, 30314\, United States
CATEGORIES:Worship
END:VEVENT
BEGIN:VEVENT
DTSTART;TZID=America/New_York:20230115T100000
DTEND;TZID=America/New_York:20230115T130000
DTSTAMP:20260419T125224
CREATED:20210813T020222Z
LAST-MODIFIED:20210813T020656Z
UID:480-1673776800-1673787600@fbcwomensministry.org
SUMMARY:Sunday Worship
DESCRIPTION:
URL:https://fbcwomensministry.org/calendar/sunday-worship-2023-01-15/
LOCATION:Friendship Baptist Church\, 80 Walnut St SW\, Atlanta\, GA\, 30314\, United States
CATEGORIES:Worship
END:VEVENT
BEGIN:VEVENT
DTSTART;TZID=America/New_York:20230108T100000
DTEND;TZID=America/New_York:20230108T130000
DTSTAMP:20260419T125224
CREATED:20210813T020222Z
LAST-MODIFIED:20210813T020656Z
UID:479-1673172000-1673182800@fbcwomensministry.org
SUMMARY:Sunday Worship
DESCRIPTION:
URL:https://fbcwomensministry.org/calendar/sunday-worship-2023-01-08/
LOCATION:Friendship Baptist Church\, 80 Walnut St SW\, Atlanta\, GA\, 30314\, United States
CATEGORIES:Worship
END:VEVENT
BEGIN:VEVENT
DTSTART;TZID=America/New_York:20230101T100000
DTEND;TZID=America/New_York:20230101T130000
DTSTAMP:20260419T125224
CREATED:20210813T020222Z
LAST-MODIFIED:20210813T020656Z
UID:478-1672567200-1672578000@fbcwomensministry.org
SUMMARY:Sunday Worship
DESCRIPTION:
URL:https://fbcwomensministry.org/calendar/sunday-worship-2023-01-01/
LOCATION:Friendship Baptist Church\, 80 Walnut St SW\, Atlanta\, GA\, 30314\, United States
CATEGORIES:Worship
END:VEVENT
BEGIN:VEVENT
DTSTART;TZID=America/New_York:20221225T100000
DTEND;TZID=America/New_York:20221225T130000
DTSTAMP:20260419T125224
CREATED:20210813T020222Z
LAST-MODIFIED:20210813T020656Z
UID:477-1671962400-1671973200@fbcwomensministry.org
SUMMARY:Sunday Worship
DESCRIPTION:
URL:https://fbcwomensministry.org/calendar/sunday-worship-2022-12-25/
LOCATION:Friendship Baptist Church\, 80 Walnut St SW\, Atlanta\, GA\, 30314\, United States
CATEGORIES:Worship
END:VEVENT
BEGIN:VEVENT
DTSTART;TZID=America/New_York:20221218T100000
DTEND;TZID=America/New_York:20221218T130000
DTSTAMP:20260419T125224
CREATED:20210813T020222Z
LAST-MODIFIED:20210813T020655Z
UID:476-1671357600-1671368400@fbcwomensministry.org
SUMMARY:Sunday Worship
DESCRIPTION:
URL:https://fbcwomensministry.org/calendar/sunday-worship-2022-12-18/
LOCATION:Friendship Baptist Church\, 80 Walnut St SW\, Atlanta\, GA\, 30314\, United States
CATEGORIES:Worship
END:VEVENT
BEGIN:VEVENT
DTSTART;TZID=America/New_York:20221211T100000
DTEND;TZID=America/New_York:20221211T130000
DTSTAMP:20260419T125224
CREATED:20210813T020222Z
LAST-MODIFIED:20210813T020655Z
UID:475-1670752800-1670763600@fbcwomensministry.org
SUMMARY:Sunday Worship
DESCRIPTION:
URL:https://fbcwomensministry.org/calendar/sunday-worship-2022-12-11/
LOCATION:Friendship Baptist Church\, 80 Walnut St SW\, Atlanta\, GA\, 30314\, United States
CATEGORIES:Worship
END:VEVENT
BEGIN:VEVENT
DTSTART;TZID=America/New_York:20221204T100000
DTEND;TZID=America/New_York:20221204T130000
DTSTAMP:20260419T125224
CREATED:20210813T020222Z
LAST-MODIFIED:20210813T020655Z
UID:474-1670148000-1670158800@fbcwomensministry.org
SUMMARY:Sunday Worship
DESCRIPTION:
URL:https://fbcwomensministry.org/calendar/sunday-worship-2022-12-04/
LOCATION:Friendship Baptist Church\, 80 Walnut St SW\, Atlanta\, GA\, 30314\, United States
CATEGORIES:Worship
END:VEVENT
BEGIN:VEVENT
DTSTART;TZID=America/New_York:20221127T100000
DTEND;TZID=America/New_York:20221127T130000
DTSTAMP:20260419T125224
CREATED:20210813T020222Z
LAST-MODIFIED:20210813T020655Z
UID:473-1669543200-1669554000@fbcwomensministry.org
SUMMARY:Sunday Worship
DESCRIPTION:
URL:https://fbcwomensministry.org/calendar/sunday-worship-2022-11-27/
LOCATION:Friendship Baptist Church\, 80 Walnut St SW\, Atlanta\, GA\, 30314\, United States
CATEGORIES:Worship
END:VEVENT
BEGIN:VEVENT
DTSTART;TZID=America/New_York:20221120T100000
DTEND;TZID=America/New_York:20221120T130000
DTSTAMP:20260419T125224
CREATED:20210813T020222Z
LAST-MODIFIED:20210813T020655Z
UID:472-1668938400-1668949200@fbcwomensministry.org
SUMMARY:Sunday Worship
DESCRIPTION:
URL:https://fbcwomensministry.org/calendar/sunday-worship-2022-11-20/
LOCATION:Friendship Baptist Church\, 80 Walnut St SW\, Atlanta\, GA\, 30314\, United States
CATEGORIES:Worship
END:VEVENT
BEGIN:VEVENT
DTSTART;TZID=America/New_York:20221113T100000
DTEND;TZID=America/New_York:20221113T130000
DTSTAMP:20260419T125224
CREATED:20210813T020222Z
LAST-MODIFIED:20210813T020655Z
UID:471-1668333600-1668344400@fbcwomensministry.org
SUMMARY:Sunday Worship
DESCRIPTION:
URL:https://fbcwomensministry.org/calendar/sunday-worship-2022-11-13/
LOCATION:Friendship Baptist Church\, 80 Walnut St SW\, Atlanta\, GA\, 30314\, United States
CATEGORIES:Worship
END:VEVENT
BEGIN:VEVENT
DTSTART;TZID=America/New_York:20221106T100000
DTEND;TZID=America/New_York:20221106T130000
DTSTAMP:20260419T125224
CREATED:20210813T020222Z
LAST-MODIFIED:20210813T020655Z
UID:470-1667728800-1667739600@fbcwomensministry.org
SUMMARY:Sunday Worship
DESCRIPTION:
URL:https://fbcwomensministry.org/calendar/sunday-worship-2022-11-06/
LOCATION:Friendship Baptist Church\, 80 Walnut St SW\, Atlanta\, GA\, 30314\, United States
CATEGORIES:Worship
END:VEVENT
BEGIN:VEVENT
DTSTART;TZID=America/New_York:20221030T100000
DTEND;TZID=America/New_York:20221030T130000
DTSTAMP:20260419T125224
CREATED:20210813T020222Z
LAST-MODIFIED:20210813T020655Z
UID:469-1667124000-1667134800@fbcwomensministry.org
SUMMARY:Sunday Worship
DESCRIPTION:
URL:https://fbcwomensministry.org/calendar/sunday-worship-2022-10-30/
LOCATION:Friendship Baptist Church\, 80 Walnut St SW\, Atlanta\, GA\, 30314\, United States
CATEGORIES:Worship
END:VEVENT
BEGIN:VEVENT
DTSTART;TZID=America/New_York:20221023T100000
DTEND;TZID=America/New_York:20221023T130000
DTSTAMP:20260419T125224
CREATED:20210813T020222Z
LAST-MODIFIED:20210813T020655Z
UID:468-1666519200-1666530000@fbcwomensministry.org
SUMMARY:Sunday Worship
DESCRIPTION:
URL:https://fbcwomensministry.org/calendar/sunday-worship-2022-10-23/
LOCATION:Friendship Baptist Church\, 80 Walnut St SW\, Atlanta\, GA\, 30314\, United States
CATEGORIES:Worship
END:VEVENT
END:VCALENDAR